BEGIN:VCALENDAR
VERSION:2.0
PRODID:-//BioMedSA - ECPv6.15.20//NONSGML v1.0//EN
CALSCALE:GREGORIAN
METHOD:PUBLISH
X-WR-CALNAME:BioMedSA
X-ORIGINAL-URL:https://biomedsa.org
X-WR-CALDESC:Events for BioMedSA
REFRESH-INTERVAL;VALUE=DURATION:PT1H
X-Robots-Tag:noindex
X-PUBLISHED-TTL:PT1H
BEGIN:VTIMEZONE
TZID:America/Chicago
BEGIN:DAYLIGHT
TZOFFSETFROM:-0600
TZOFFSETTO:-0500
TZNAME:CDT
DTSTART:20240310T080000
END:DAYLIGHT
BEGIN:STANDARD
TZOFFSETFROM:-0500
TZOFFSETTO:-0600
TZNAME:CST
DTSTART:20241103T070000
END:STANDARD
BEGIN:DAYLIGHT
TZOFFSETFROM:-0600
TZOFFSETTO:-0500
TZNAME:CDT
DTSTART:20250309T080000
END:DAYLIGHT
BEGIN:STANDARD
TZOFFSETFROM:-0500
TZOFFSETTO:-0600
TZNAME:CST
DTSTART:20251102T070000
END:STANDARD
BEGIN:DAYLIGHT
TZOFFSETFROM:-0600
TZOFFSETTO:-0500
TZNAME:CDT
DTSTART:20260308T080000
END:DAYLIGHT
BEGIN:STANDARD
TZOFFSETFROM:-0500
TZOFFSETTO:-0600
TZNAME:CST
DTSTART:20261101T070000
END:STANDARD
BEGIN:DAYLIGHT
TZOFFSETFROM:-0600
TZOFFSETTO:-0500
TZNAME:CDT
DTSTART:20270314T080000
END:DAYLIGHT
BEGIN:STANDARD
TZOFFSETFROM:-0500
TZOFFSETTO:-0600
TZNAME:CST
DTSTART:20271107T070000
END:STANDARD
END:VTIMEZONE
BEGIN:VEVENT
DTSTART;TZID=America/Chicago:20260409T113000
DTEND;TZID=America/Chicago:20260409T133000
DTSTAMP:20260425T052139
CREATED:20260123T174216Z
LAST-MODIFIED:20260401T192647Z
UID:10000173-1775734200-1775741400@biomedsa.org
SUMMARY:New Member Lunch - April 2026
DESCRIPTION:Save the Date for the New Member Luncheon!\nThis event is designed to welcome and connect new members to the BioMedSA ecosystem—and to one another. Members who are new or who have been unable to attend in the past are encouraged to join us. The event is free\, but registration is required. For registration information\, please contact info@biomedsa.org.
URL:https://biomedsa.org/event/new-member-lunch/
LOCATION:BioMedSA Office\, 2040 Babcock Road Suite 100\, San Antonio\, TX\, 78229\, United States
CATEGORIES:Member Event
ATTACH;FMTTYPE=image/png:https://biomedsa.org/wp-content/uploads/2026/01/Standard-with-regular-log.png
END:VEVENT
BEGIN:VEVENT
DTSTART;TZID=America/Chicago:20250626T080000
DTEND;TZID=America/Chicago:20250626T100000
DTSTAMP:20260425T052139
CREATED:20250513T171021Z
LAST-MODIFIED:20250513T173456Z
UID:10000099-1750924800-1750932000@biomedsa.org
SUMMARY:Targeted Networking: Startup CEOs and COOs
DESCRIPTION:Content is protected.
URL:https://biomedsa.org/event/targeted-networking-startup-ceos-and-coos/
LOCATION:BioMedSA Office\, 2040 Babcock Road Suite 100\, San Antonio\, TX\, 78229\, United States
CATEGORIES:Member Event
END:VEVENT
BEGIN:VEVENT
DTSTART;TZID=America/Chicago:20250610T083000
DTEND;TZID=America/Chicago:20250610T100000
DTSTAMP:20260425T052139
CREATED:20250513T170229Z
LAST-MODIFIED:20250519T160616Z
UID:10000098-1749544200-1749549600@biomedsa.org
SUMMARY:Targeted Networking: Non-Technical Service Providers
DESCRIPTION:Content is protected.
URL:https://biomedsa.org/event/targeted-networking-non-technical-service-providers/
LOCATION:BioMedSA Office\, 2040 Babcock Road Suite 100\, San Antonio\, TX\, 78229\, United States
CATEGORIES:Member Event
END:VEVENT
BEGIN:VEVENT
DTSTART;TZID=America/Chicago:20250605T080000
DTEND;TZID=America/Chicago:20250605T100000
DTSTAMP:20260425T052139
CREATED:20250513T163706Z
LAST-MODIFIED:20250603T212407Z
UID:10000097-1749110400-1749117600@biomedsa.org
SUMMARY:Targeted Networking: Technical Service Providers
DESCRIPTION:Content is protected.
URL:https://biomedsa.org/event/targeted-networking-technical-service-providers/
LOCATION:BioMedSA Office\, 2040 Babcock Road Suite 100\, San Antonio\, TX\, 78229\, United States
CATEGORIES:Member Event
END:VEVENT
END:VCALENDAR